BEGIN:VCALENDAR
VERSION:2.0
PRODID:-//Metro East Montessori School - ECPv6.15.20//NONSGML v1.0//EN
CALSCALE:GREGORIAN
METHOD:PUBLISH
X-ORIGINAL-URL:https://metroeastmontessori.com
X-WR-CALDESC:Events for Metro East Montessori School
REFRESH-INTERVAL;VALUE=DURATION:PT1H
X-Robots-Tag:noindex
X-PUBLISHED-TTL:PT1H
BEGIN:VTIMEZONE
TZID:UTC
BEGIN:STANDARD
TZOFFSETFROM:+0000
TZOFFSETTO:+0000
TZNAME:UTC
DTSTART:20190101T000000
END:STANDARD
END:VTIMEZONE
BEGIN:VEVENT
DTSTART;VALUE=DATE:20201124
DTEND;VALUE=DATE:20201125
DTSTAMP:20260424T195652
CREATED:20201005T200555Z
LAST-MODIFIED:20201005T200555Z
UID:526-1606176000-1606262399@metroeastmontessori.com
SUMMARY:Picture Retake Day/Class Picture
DESCRIPTION:
URL:https://metroeastmontessori.com/event/picture-retake-day-class-picture/
END:VEVENT
BEGIN:VEVENT
DTSTART;TZID=UTC:20201119T180000
DTEND;TZID=UTC:20201119T180000
DTSTAMP:20260424T195652
CREATED:20201005T200420Z
LAST-MODIFIED:20201005T204024Z
UID:524-1605808800-1605808800@metroeastmontessori.com
SUMMARY:Primary Parent Information Session
DESCRIPTION:6 pm (All families welcome via Zoom)
URL:https://metroeastmontessori.com/event/primary-parent-information-session-6-pm-all-families-welcome-via-zoom/
END:VEVENT
BEGIN:VEVENT
DTSTART;VALUE=DATE:20201117
DTEND;VALUE=DATE:20201118
DTSTAMP:20260424T195652
CREATED:20201005T200252Z
LAST-MODIFIED:20201005T204143Z
UID:522-1605571200-1605657599@metroeastmontessori.com
SUMMARY:Elementary Parent Information Session
DESCRIPTION:6 pm (All families welcome via Zoom)
URL:https://metroeastmontessori.com/event/elementary-parent-information-session-6-pm-all-families-welcome-via-zoom/
END:VEVENT
BEGIN:VEVENT
DTSTART;TZID=UTC:20201113T083000
DTEND;TZID=UTC:20201113T120000
DTSTAMP:20260424T195652
CREATED:20201005T200145Z
LAST-MODIFIED:20201005T204703Z
UID:520-1605256200-1605268800@metroeastmontessori.com
SUMMARY:Half Day of School
DESCRIPTION:8:30-Noon Parent Conferences in afternoon
URL:https://metroeastmontessori.com/event/half-day-of-school-830-noon-parent-conferences-in-afternoon/
END:VEVENT
BEGIN:VEVENT
DTSTART;VALUE=DATE:20201112
DTEND;VALUE=DATE:20201113
DTSTAMP:20260424T195652
CREATED:20201005T195937Z
LAST-MODIFIED:20201005T204726Z
UID:504-1605139200-1605225599@metroeastmontessori.com
SUMMARY:SCHOOL CLOSED
DESCRIPTION:Parent Conference (All Day)
URL:https://metroeastmontessori.com/event/school-closed-parent-conference-all-day/
END:VEVENT
BEGIN:VEVENT
DTSTART;VALUE=DATE:20201111
DTEND;VALUE=DATE:20201112
DTSTAMP:20260424T195652
CREATED:20201005T191231Z
LAST-MODIFIED:20201005T204754Z
UID:502-1605052800-1605139199@metroeastmontessori.com
SUMMARY:SCHOOL CLOSED
DESCRIPTION:Veterans Day \n(Child Care open if we meet minimum sign up)
URL:https://metroeastmontessori.com/event/school-closed-veterans-day/
END:VEVENT
BEGIN:VEVENT
DTSTART;VALUE=DATE:20201016
DTEND;VALUE=DATE:20201017
DTSTAMP:20260424T195652
CREATED:20201005T191135Z
LAST-MODIFIED:20201005T202814Z
UID:500-1602806400-1602892799@metroeastmontessori.com
SUMMARY:Picture Day
DESCRIPTION:
URL:https://metroeastmontessori.com/event/picture-day/
END:VEVENT
BEGIN:VEVENT
DTSTART;VALUE=DATE:20200514
DTEND;VALUE=DATE:20200515
DTSTAMP:20260424T195652
CREATED:20200414T024651Z
LAST-MODIFIED:20201005T202820Z
UID:299-1589414400-1589500799@metroeastmontessori.com
SUMMARY:Spring Performance
DESCRIPTION:Testing…. \n  \n  \nTesting… \n  \n 
URL:https://metroeastmontessori.com/event/spring-performance/
END:VEVENT
END:VCALENDAR