BEGIN:VCALENDAR
VERSION:2.0
PRODID:-//Metro East Montessori School - ECPv6.15.20//NONSGML v1.0//EN
CALSCALE:GREGORIAN
METHOD:PUBLISH
X-ORIGINAL-URL:https://metroeastmontessori.com
X-WR-CALDESC:Events for Metro East Montessori School
REFRESH-INTERVAL;VALUE=DURATION:PT1H
X-Robots-Tag:noindex
X-PUBLISHED-TTL:PT1H
BEGIN:VTIMEZONE
TZID:UTC
BEGIN:STANDARD
TZOFFSETFROM:+0000
TZOFFSETTO:+0000
TZNAME:UTC
DTSTART:20190101T000000
END:STANDARD
END:VTIMEZONE
BEGIN:VEVENT
DTSTART;TZID=UTC:20241029T080000
DTEND;TZID=UTC:20241030T170000
DTSTAMP:20260424T163950
CREATED:20241016T184038Z
LAST-MODIFIED:20241016T184038Z
UID:879-1730188800-1730307600@metroeastmontessori.com
SUMMARY:Parent Teacher Conferences
DESCRIPTION:School closed
URL:https://metroeastmontessori.com/event/parent-teacher-conferences/
END:VEVENT
BEGIN:VEVENT
DTSTART;TZID=UTC:20241022T180000
DTEND;TZID=UTC:20241022T200000
DTSTAMP:20260424T163950
CREATED:20241016T183652Z
LAST-MODIFIED:20241016T183652Z
UID:875-1729620000-1729627200@metroeastmontessori.com
SUMMARY:Halloween Skate Party
DESCRIPTION:
URL:https://metroeastmontessori.com/event/halloween-skate-party/
END:VEVENT
BEGIN:VEVENT
DTSTART;VALUE=DATE:20241016
DTEND;VALUE=DATE:20241017
DTSTAMP:20260424T163950
CREATED:20241016T183939Z
LAST-MODIFIED:20241016T183939Z
UID:877-1729036800-1729123199@metroeastmontessori.com
SUMMARY:Picture Day
DESCRIPTION:
URL:https://metroeastmontessori.com/event/picture-day-2/
END:VEVENT
BEGIN:VEVENT
DTSTART;TZID=UTC:20230526T100000
DTEND;TZID=UTC:20230526T100000
DTSTAMP:20260424T163950
CREATED:20230323T212427Z
LAST-MODIFIED:20230323T212427Z
UID:826-1685095200-1685095200@metroeastmontessori.com
SUMMARY:School Picnic 10:00 am
DESCRIPTION:Pleasant Ridge Park\, Maryville IL
URL:https://metroeastmontessori.com/event/school-picnic-1000-am/
END:VEVENT
BEGIN:VEVENT
DTSTART;VALUE=DATE:20230525
DTEND;VALUE=DATE:20230526
DTSTAMP:20260424T163950
CREATED:20230323T212314Z
LAST-MODIFIED:20230323T212314Z
UID:823-1684972800-1685059199@metroeastmontessori.com
SUMMARY:Last Day of School
DESCRIPTION:
URL:https://metroeastmontessori.com/event/last-day-of-school-2/
END:VEVENT
BEGIN:VEVENT
DTSTART;TZID=UTC:20230518T180000
DTEND;TZID=UTC:20230518T180000
DTSTAMP:20260424T163950
CREATED:20230323T212132Z
LAST-MODIFIED:20230323T212240Z
UID:817-1684432800-1684432800@metroeastmontessori.com
SUMMARY:Spring Concert 6:00 pm
DESCRIPTION:
URL:https://metroeastmontessori.com/event/spring-concert/
END:VEVENT
BEGIN:VEVENT
DTSTART;VALUE=DATE:20230428
DTEND;VALUE=DATE:20230429
DTSTAMP:20260424T163950
CREATED:20230323T212027Z
LAST-MODIFIED:20230323T212027Z
UID:815-1682640000-1682726399@metroeastmontessori.com
SUMMARY:SCHOOL CLOSED Parent Teacher Conferences (all day)
DESCRIPTION:
URL:https://metroeastmontessori.com/event/school-closed-parent-teacher-conferences-all-day-2/
END:VEVENT
BEGIN:VEVENT
DTSTART;VALUE=DATE:20230427
DTEND;VALUE=DATE:20230428
DTSTAMP:20260424T163950
CREATED:20230323T211959Z
LAST-MODIFIED:20230323T211959Z
UID:812-1682553600-1682639999@metroeastmontessori.com
SUMMARY:SCHOOL CLOSED Parent Teacher Conferences (all day)
DESCRIPTION:
URL:https://metroeastmontessori.com/event/school-closed-parent-teacher-conferences-all-day/
END:VEVENT
BEGIN:VEVENT
DTSTART;VALUE=DATE:20230403
DTEND;VALUE=DATE:20230408
DTSTAMP:20260424T163950
CREATED:20230323T211535Z
LAST-MODIFIED:20230323T211721Z
UID:806-1680480000-1680911999@metroeastmontessori.com
SUMMARY:SCHOOL CLOSED – Spring Break (April 3rd-7th\, 2023)
DESCRIPTION:(Child Care Open-if enough sign up)
URL:https://metroeastmontessori.com/event/school-closed-spring-break-child-care-open-if-enough-sign-up/
END:VEVENT
BEGIN:VEVENT
DTSTART;VALUE=DATE:20210528
DTEND;VALUE=DATE:20210529
DTSTAMP:20260424T163950
CREATED:20201005T202625Z
LAST-MODIFIED:20201005T202625Z
UID:554-1622160000-1622246399@metroeastmontessori.com
SUMMARY:* School Picnic 10:00am
DESCRIPTION:*Please note some of the events on the calendar are pending approval due to Covid -19.
URL:https://metroeastmontessori.com/event/school-picnic-1000am/
END:VEVENT
BEGIN:VEVENT
DTSTART;VALUE=DATE:20210527
DTEND;VALUE=DATE:20210528
DTSTAMP:20260424T163950
CREATED:20201005T202540Z
LAST-MODIFIED:20201005T202540Z
UID:552-1622073600-1622159999@metroeastmontessori.com
SUMMARY:LAST DAY OF SCHOOL
DESCRIPTION:
URL:https://metroeastmontessori.com/event/last-day-of-school/
END:VEVENT
BEGIN:VEVENT
DTSTART;VALUE=DATE:20210520
DTEND;VALUE=DATE:20210521
DTSTAMP:20260424T163950
CREATED:20201005T202509Z
LAST-MODIFIED:20201005T202509Z
UID:550-1621468800-1621555199@metroeastmontessori.com
SUMMARY:* SPRING PERFORMANCE
DESCRIPTION:*Please note some of the events on the calendar are pending approval due to Covid -19.
URL:https://metroeastmontessori.com/event/spring-performance-2/
END:VEVENT
BEGIN:VEVENT
DTSTART;VALUE=DATE:20210420
DTEND;VALUE=DATE:20210421
DTSTAMP:20260424T163950
CREATED:20201005T202407Z
LAST-MODIFIED:20201005T204225Z
UID:548-1618876800-1618963199@metroeastmontessori.com
SUMMARY:SCHOOL CLOSED
DESCRIPTION:PARENT CONFERENCES (ALL DAY)
URL:https://metroeastmontessori.com/event/school-closed-parent-conferences-all-day-2/
END:VEVENT
BEGIN:VEVENT
DTSTART;VALUE=DATE:20210419
DTEND;VALUE=DATE:20210420
DTSTAMP:20260424T163950
CREATED:20201005T202331Z
LAST-MODIFIED:20201005T204252Z
UID:546-1618790400-1618876799@metroeastmontessori.com
SUMMARY:SCHOOL CLOSED
DESCRIPTION:PARENT CONFERENCES (ALL DAY)
URL:https://metroeastmontessori.com/event/school-closed-parent-conferences-all-day/
END:VEVENT
BEGIN:VEVENT
DTSTART;VALUE=DATE:20210329
DTEND;VALUE=DATE:20210403
DTSTAMP:20260424T163950
CREATED:20201005T202301Z
LAST-MODIFIED:20201005T204352Z
UID:544-1616976000-1617407999@metroeastmontessori.com
SUMMARY:SCHOOL CLOSED
DESCRIPTION:Spring Break \n(Child Care Open\, if we meet minimum sign up)
URL:https://metroeastmontessori.com/event/school-closed-spring-break-child-care-open-if-we-meet-minimum-sign-up/
END:VEVENT
BEGIN:VEVENT
DTSTART;TZID=UTC:20210226T190000
DTEND;TZID=UTC:20210226T210000
DTSTAMP:20260424T163950
CREATED:20210210T193105Z
LAST-MODIFIED:20210210T193211Z
UID:719-1614366000-1614373200@metroeastmontessori.com
SUMMARY:Trivia Night
DESCRIPTION:MEMS Virtual Trivia Night on Friday\, February 26\, 2021\, 7:00p – 9:00p CST. \nThe recommended buy-in for Trivia Night is $10 per person (feel free to give more) and all proceeds go directly to MEMS. \nFrozen pizza from Joe’s is available and proceeds go to MEMS! Prices vary. \n  \nClick Here To Sign Up \n 
URL:https://metroeastmontessori.com/event/trivia-night/
END:VEVENT
BEGIN:VEVENT
DTSTART;VALUE=DATE:20210212
DTEND;VALUE=DATE:20210216
DTSTAMP:20260424T163950
CREATED:20201005T202206Z
LAST-MODIFIED:20201005T203852Z
UID:542-1613088000-1613433599@metroeastmontessori.com
SUMMARY:SCHOOL AND CHILD CARE CLOSED
DESCRIPTION:Teacher In-service-AMI Refresher Course/Presidents Day
URL:https://metroeastmontessori.com/event/school-and-child-care-closed-teacher-in-service-ami-refresher-course-presidents-day/
END:VEVENT
BEGIN:VEVENT
DTSTART;VALUE=DATE:20210118
DTEND;VALUE=DATE:20210119
DTSTAMP:20260424T163950
CREATED:20201005T202117Z
LAST-MODIFIED:20201005T204331Z
UID:540-1610928000-1611014399@metroeastmontessori.com
SUMMARY:SCHOOL AND CHILD CARE CLOSED
DESCRIPTION:Martin Luther King\, Jr Day
URL:https://metroeastmontessori.com/event/school-and-child-care-closed-mlk-day/
END:VEVENT
BEGIN:VEVENT
DTSTART;VALUE=DATE:20210113
DTEND;VALUE=DATE:20210114
DTSTAMP:20260424T163950
CREATED:20201005T202039Z
LAST-MODIFIED:20201005T203621Z
UID:538-1610496000-1610582399@metroeastmontessori.com
SUMMARY:* Parents’ Night
DESCRIPTION:(Visit with your child in their classroom) \n*Please note some of the events on the calendar are pending approval due to Covid -19.
URL:https://metroeastmontessori.com/event/parents-night-visit-with-your-child-in-their-classroom-2/
END:VEVENT
BEGIN:VEVENT
DTSTART;VALUE=DATE:20210112
DTEND;VALUE=DATE:20210113
DTSTAMP:20260424T163950
CREATED:20201005T201951Z
LAST-MODIFIED:20201005T203950Z
UID:536-1610409600-1610495999@metroeastmontessori.com
SUMMARY:* Parents’ Night
DESCRIPTION:(Visit with your child in their classroom) \n*Please note some of the events on the calendar are pending approval due to Covid -19.
URL:https://metroeastmontessori.com/event/parents-night-visit-with-your-child-in-their-classroom/
END:VEVENT
BEGIN:VEVENT
DTSTART;VALUE=DATE:20201221
DTEND;VALUE=DATE:20210102
DTSTAMP:20260424T163950
CREATED:20201005T201829Z
LAST-MODIFIED:20201005T204553Z
UID:534-1608508800-1609545599@metroeastmontessori.com
SUMMARY:SCHOOL CLOSED
DESCRIPTION:Winter Vacation \n(Child Care Open Dec. 21\, 22\, 23\, 29\, 30 (if we meet minimum sign up) CARE CLOSED Dec. 24\, 25\, 31 and Jan. 1
URL:https://metroeastmontessori.com/event/school-closed-winter-vacation-child-care-open-dec-21-22-23-29-30-if-we-meet-minimum-sign-up-care-closed-dec-24-25-31-and-jan-1/
END:VEVENT
BEGIN:VEVENT
DTSTART;VALUE=DATE:20201218
DTEND;VALUE=DATE:20201219
DTSTAMP:20260424T163950
CREATED:20201005T200748Z
LAST-MODIFIED:20201005T203922Z
UID:532-1608249600-1608335999@metroeastmontessori.com
SUMMARY:Pajama Day
DESCRIPTION:(wear your favorite PJ’s today)
URL:https://metroeastmontessori.com/event/pajama-day-wear-your-favorite-pjs-today/
END:VEVENT
BEGIN:VEVENT
DTSTART;VALUE=DATE:20201217
DTEND;VALUE=DATE:20201218
DTSTAMP:20260424T163950
CREATED:20201005T200717Z
LAST-MODIFIED:20201005T200717Z
UID:530-1608163200-1608249599@metroeastmontessori.com
SUMMARY:Winter Celebration via Zoom
DESCRIPTION:
URL:https://metroeastmontessori.com/event/winter-celebration-via-zoom/
END:VEVENT
BEGIN:VEVENT
DTSTART;VALUE=DATE:20201125
DTEND;VALUE=DATE:20201128
DTSTAMP:20260424T163950
CREATED:20201005T200640Z
LAST-MODIFIED:20201005T204638Z
UID:528-1606262400-1606521599@metroeastmontessori.com
SUMMARY:SCHOOL AND CHILD CARE CLOSED
DESCRIPTION:Fall Break
URL:https://metroeastmontessori.com/event/school-and-child-care-closed-fall-break/
END:VEVENT
BEGIN:VEVENT
DTSTART;VALUE=DATE:20201124
DTEND;VALUE=DATE:20201125
DTSTAMP:20260424T163950
CREATED:20201005T200555Z
LAST-MODIFIED:20201005T200555Z
UID:526-1606176000-1606262399@metroeastmontessori.com
SUMMARY:Picture Retake Day/Class Picture
DESCRIPTION:
URL:https://metroeastmontessori.com/event/picture-retake-day-class-picture/
END:VEVENT
BEGIN:VEVENT
DTSTART;TZID=UTC:20201119T180000
DTEND;TZID=UTC:20201119T180000
DTSTAMP:20260424T163950
CREATED:20201005T200420Z
LAST-MODIFIED:20201005T204024Z
UID:524-1605808800-1605808800@metroeastmontessori.com
SUMMARY:Primary Parent Information Session
DESCRIPTION:6 pm (All families welcome via Zoom)
URL:https://metroeastmontessori.com/event/primary-parent-information-session-6-pm-all-families-welcome-via-zoom/
END:VEVENT
BEGIN:VEVENT
DTSTART;VALUE=DATE:20201117
DTEND;VALUE=DATE:20201118
DTSTAMP:20260424T163950
CREATED:20201005T200252Z
LAST-MODIFIED:20201005T204143Z
UID:522-1605571200-1605657599@metroeastmontessori.com
SUMMARY:Elementary Parent Information Session
DESCRIPTION:6 pm (All families welcome via Zoom)
URL:https://metroeastmontessori.com/event/elementary-parent-information-session-6-pm-all-families-welcome-via-zoom/
END:VEVENT
BEGIN:VEVENT
DTSTART;TZID=UTC:20201113T083000
DTEND;TZID=UTC:20201113T120000
DTSTAMP:20260424T163950
CREATED:20201005T200145Z
LAST-MODIFIED:20201005T204703Z
UID:520-1605256200-1605268800@metroeastmontessori.com
SUMMARY:Half Day of School
DESCRIPTION:8:30-Noon Parent Conferences in afternoon
URL:https://metroeastmontessori.com/event/half-day-of-school-830-noon-parent-conferences-in-afternoon/
END:VEVENT
BEGIN:VEVENT
DTSTART;VALUE=DATE:20201112
DTEND;VALUE=DATE:20201113
DTSTAMP:20260424T163950
CREATED:20201005T195937Z
LAST-MODIFIED:20201005T204726Z
UID:504-1605139200-1605225599@metroeastmontessori.com
SUMMARY:SCHOOL CLOSED
DESCRIPTION:Parent Conference (All Day)
URL:https://metroeastmontessori.com/event/school-closed-parent-conference-all-day/
END:VEVENT
BEGIN:VEVENT
DTSTART;VALUE=DATE:20201111
DTEND;VALUE=DATE:20201112
DTSTAMP:20260424T163950
CREATED:20201005T191231Z
LAST-MODIFIED:20201005T204754Z
UID:502-1605052800-1605139199@metroeastmontessori.com
SUMMARY:SCHOOL CLOSED
DESCRIPTION:Veterans Day \n(Child Care open if we meet minimum sign up)
URL:https://metroeastmontessori.com/event/school-closed-veterans-day/
END:VEVENT
END:VCALENDAR